BEGIN:VCALENDAR
VERSION:2.0
PRODID:icalendar-ruby
CALSCALE:GREGORIAN
METHOD:PUBLISH
BEGIN:VEVENT
DTSTAMP:20260422T102805Z
UID:5-400899@thelighthouse219.tithelysetup5.com
DTSTART:20261101T180000Z
DTEND:20261101T190000Z
CLASS:PUBLIC
CREATED:20260421T183244
DESCRIPTION:Sunday Worship
LAST-MODIFIED:20260421T183244
LOCATION:
SUMMARY:Sunday Worship
URL;VALUE=URI:https://thelighthouselincoln.com/events/sunday-worship/2026-1
 1-01
END:VEVENT
END:VCALENDAR
