BEGIN:VCALENDAR
VERSION:2.0
PRODID:icalendar-ruby
CALSCALE:GREGORIAN
METHOD:PUBLISH
BEGIN:VEVENT
DTSTAMP:20260422T022020Z
UID:5-400894@thelighthouse219.tithelysetup5.com
DTSTART:20260927T170000Z
DTEND:20260927T180000Z
CLASS:PUBLIC
CREATED:20260421T183244
DESCRIPTION:Sunday Worship
LAST-MODIFIED:20260421T183244
LOCATION:
SUMMARY:Sunday Worship
URL;VALUE=URI:https://thelighthouselincoln.com/events/sunday-worship/2026-0
 9-27
END:VEVENT
END:VCALENDAR
