BEGIN:VCALENDAR
VERSION:2.0
PRODID:icalendar-ruby
CALSCALE:GREGORIAN
METHOD:PUBLISH
BEGIN:VEVENT
DTSTAMP:20260421T212555Z
UID:5-400369@thelighthouse219.tithelysetup5.com
DTSTART:20260906T170000Z
DTEND:20260906T180000Z
CLASS:PUBLIC
CREATED:20260421T131545
DESCRIPTION:Sunday Worship
LAST-MODIFIED:20260421T131545
LOCATION:
SUMMARY:Sunday Worship
URL;VALUE=URI:https://thelighthouselincoln.com/events/sunday-worship/2026-0
 9-06
END:VEVENT
END:VCALENDAR
