BEGIN:VCALENDAR
VERSION:2.0
PRODID:icalendar-ruby
CALSCALE:GREGORIAN
METHOD:PUBLISH
BEGIN:VEVENT
DTSTAMP:20260421T151542Z
UID:5-399843@thelighthouse219.tithelysetup5.com
DTSTART:20260809T170000Z
DTEND:20260809T180000Z
CLASS:PUBLIC
CREATED:20260421T075942
DESCRIPTION:Sunday Worship
LAST-MODIFIED:20260421T075942
LOCATION:
SUMMARY:Sunday Worship
URL;VALUE=URI:https://thelighthouselincoln.com/events/sunday-worship/2026-0
 8-09
END:VEVENT
END:VCALENDAR
