BEGIN:VCALENDAR
VERSION:2.0
PRODID:icalendar-ruby
CALSCALE:GREGORIAN
METHOD:PUBLISH
BEGIN:VEVENT
DTSTAMP:20260421T132441Z
UID:5-399581@thelighthouse219.tithelysetup5.com
DTSTART:20260802T170000Z
DTEND:20260802T180000Z
CLASS:PUBLIC
CREATED:20260421T052418
DESCRIPTION:Sunday Worship
LAST-MODIFIED:20260421T052418
LOCATION:
SUMMARY:Sunday Worship
URL;VALUE=URI:https://thelighthouselincoln.com/events/sunday-worship/2026-0
 8-02
END:VEVENT
END:VCALENDAR
